BEGIN:VCALENDAR
VERSION:2.0
PRODID:-//wp-events-plugin.com//7.2.3.1//EN
TZID:Australia/Melbourne
X-WR-TIMEZONE:Australia/Melbourne
BEGIN:VEVENT
UID:16@everest4wdclubvic.com.au
DTSTART;TZID=Australia/Melbourne:20230810T000000
DTEND;TZID=Australia/Melbourne:20230813T000000
DTSTAMP:20230809T072426Z
URL:https://everest4wdclubvic.com.au/events/walhalla-huts/
SUMMARY:Walhalla Huts
DESCRIPTION:Trip to visit some of the high country huts in the Walhalla reg
 ion.
ATTACH;FMTTYPE=image/jpeg:https://everest4wdclubvic.com.au/wp-content/uplo
 ads/2023/08/IMG_8237.jpeg
CATEGORIES:Touring Trip
END:VEVENT
BEGIN:VTIMEZONE
TZID:Australia/Melbourne
X-LIC-LOCATION:Australia/Melbourne
BEGIN:STANDARD
DTSTART:20230402T020000
TZOFFSETFROM:+1100
TZOFFSETTO:+1000
TZNAME:AEST
END:STANDARD
END:VTIMEZONE
END:VCALENDAR