BEGIN:VCALENDAR
VERSION:2.0
PRODID:-//wp-events-plugin.com//7.2.3.1//EN
TZID:Australia/Melbourne
X-WR-TIMEZONE:Australia/Melbourne
BEGIN:VEVENT
UID:18@everest4wdclubvic.com.au
DTSTART;TZID=Australia/Melbourne;VALUE=DATE:20240223
DTEND;TZID=Australia/Melbourne;VALUE=DATE:20240226
DTSTAMP:20240123T060024Z
URL:https://everest4wdclubvic.com.au/events/sheepyard-flat-to-dargo/
SUMMARY:Sheepyard Flat to Dargo
DESCRIPTION:
ATTACH;FMTTYPE=image/jpeg:https://everest4wdclubvic.com.au/wp-content/uplo
 ads/2023/08/IMG_8243.jpg
CATEGORIES:Base camp,Touring Trip
LOCATION:https://www.google.com/maps/place/Dargo+VIC+3862/@-37.3219247,146.
 9716885,10z/data=!3m1!4b1!4m6!3m5!1s0x6b25f3e969fd9d81:0x40579a430a045e0!8
 m2!3d-37.3502659!4d147.3204044!16zL20vMDhucGpy?entry=ttu
END:VEVENT
BEGIN:VTIMEZONE
TZID:Australia/Melbourne
X-LIC-LOCATION:Australia/Melbourne
BEGIN:DAYLIGHT
DTSTART:20231001T030000
TZOFFSETFROM:+1000
TZOFFSETTO:+1100
TZNAME:AEDT
END:DAYLIGHT
END:VTIMEZONE
END:VCALENDAR