BEGIN:VCALENDAR
VERSION:2.0
PRODID:-//wp-events-plugin.com//7.2.3.1//EN
TZID:Australia/Melbourne
X-WR-TIMEZONE:Australia/Melbourne
BEGIN:VEVENT
UID:17@everest4wdclubvic.com.au
DTSTART;TZID=Australia/Melbourne:20231022T090000
DTEND;TZID=Australia/Melbourne:20231022T090000
DTSTAMP:20230810T011004Z
URL:https://everest4wdclubvic.com.au/events/prospective-members-rainforest
 -scenic-drive/
SUMMARY:Prospective Members - Rainforest Scenic Drive
DESCRIPTION:An easy drive on gravel roads to visit some the cool temperate 
 rainforests close to Melbourne. This trip will be predominantly 2WD access
 ible rather than an off-road trip. It is suitable for stock 4WD vehicles a
 nd novice drivers.\nWe will visit two or three of the beautiful locations 
 Melbourne has to offer\, such as the Ada Tree walk and the Wirrawalla Rain
 forest Walk in Toolangi. We will head back to Melbourne via Murrindindi Sc
 enic reserve and stop to take a quick look at the campsite where the club 
 will host our pre Christmas BBQ campout (Which is on 24-26 November).
ATTACH;FMTTYPE=image/jpeg:https://everest4wdclubvic.com.au/wp-content/uplo
 ads/2023/08/IMG_7022.jpg
CATEGORIES:Day trip
END:VEVENT
BEGIN:VTIMEZONE
TZID:Australia/Melbourne
X-LIC-LOCATION:Australia/Melbourne
BEGIN:DAYLIGHT
DTSTART:20231001T030000
TZOFFSETFROM:+1000
TZOFFSETTO:+1100
TZNAME:AEDT
END:DAYLIGHT
END:VTIMEZONE
END:VCALENDAR