BEGIN:VCALENDAR
VERSION:2.0
PRODID:-//wp-events-plugin.com//7.2.3.1//EN
TZID:Australia/Melbourne
X-WR-TIMEZONE:Australia/Melbourne
BEGIN:VEVENT
UID:15@everest4wdclubvic.com.au
DTSTART;TZID=Australia/Melbourne;VALUE=DATE:20231124
DTEND;TZID=Australia/Melbourne;VALUE=DATE:20231127
DTSTAMP:20240213T050152Z
URL:https://everest4wdclubvic.com.au/events/murrindindi-camp-and-drive/
SUMMARY:Murrindindi Camp and Drive
DESCRIPTION:After the huge success of last years pre Christmas BBQ trip\, t
 he club will once again run a weekend camping trip to Murrindindi Scenic R
 eserve with some optional driving in Toolangi on the Saturday.
ATTACH;FMTTYPE=image/jpeg:https://everest4wdclubvic.com.au/wp-content/uplo
 ads/2023/08/IMG_8232.jpeg
CATEGORIES:Base camp
END:VEVENT
BEGIN:VTIMEZONE
TZID:Australia/Melbourne
X-LIC-LOCATION:Australia/Melbourne
BEGIN:DAYLIGHT
DTSTART:20231001T030000
TZOFFSETFROM:+1000
TZOFFSETTO:+1100
TZNAME:AEDT
END:DAYLIGHT
END:VTIMEZONE
END:VCALENDAR