BEGIN:VCALENDAR
VERSION:2.0
PRODID:-//wp-events-plugin.com//7.2.3.1//EN
TZID:Australia/Melbourne
X-WR-TIMEZONE:Australia/Melbourne
BEGIN:VEVENT
UID:13@everest4wdclubvic.com.au
DTSTART;TZID=Australia/Melbourne:20230714T180000
DTEND;TZID=Australia/Melbourne:20230716T210000
DTSTAMP:20230816T133312Z
URL:https://everest4wdclubvic.com.au/events/mt-scene-snow-trip/
SUMMARY:Mt Skene Snow Trip
DESCRIPTION:Annual Mt Skene Snow trip on closed roads\, with access obtaine
 d via permit that the club is able to apply for through its affiliation wi
 th Four-Wheel Drive Victoria.
ATTACH;FMTTYPE=image/jpeg:https://everest4wdclubvic.com.au/wp-content/uplo
 ads/2023/06/IMG_8227.jpg
CATEGORIES:Touring Trip
END:VEVENT
BEGIN:VTIMEZONE
TZID:Australia/Melbourne
X-LIC-LOCATION:Australia/Melbourne
BEGIN:STANDARD
DTSTART:20230402T020000
TZOFFSETFROM:+1100
TZOFFSETTO:+1000
TZNAME:AEST
END:STANDARD
END:VTIMEZONE
END:VCALENDAR