BEGIN:VCALENDAR
VERSION:2.0
PRODID:-//wp-events-plugin.com//7.2.3.1//EN
TZID:Australia/Melbourne
X-WR-TIMEZONE:Australia/Melbourne
BEGIN:VEVENT
UID:12@everest4wdclubvic.com.au
DTSTART;TZID=Australia/Melbourne;VALUE=DATE:20230609
DTEND;TZID=Australia/Melbourne;VALUE=DATE:20230613
DTSTAMP:20230518T011101Z
URL:https://everest4wdclubvic.com.au/events/mount-crozier-murray-sunset-de
 sert-trip/
SUMMARY:Mount Crozier Murray-Sunset Desert trip
DESCRIPTION:Base camping at Mount Crozier (https://www.parks.vic.gov.au/pla
 ces-to-see/sites/mt\,-d-\,-crozier-campground)
ATTACH;FMTTYPE=image/jpeg:https://everest4wdclubvic.com.au/wp-content/uplo
 ads/2023/05/IMG_1200-copy.jpg
CATEGORIES:Base camp
END:VEVENT
BEGIN:VTIMEZONE
TZID:Australia/Melbourne
X-LIC-LOCATION:Australia/Melbourne
BEGIN:STANDARD
DTSTART:20230402T020000
TZOFFSETFROM:+1100
TZOFFSETTO:+1000
TZNAME:AEST
END:STANDARD
END:VTIMEZONE
END:VCALENDAR