BEGIN:VCALENDAR
VERSION:2.0
PRODID:-//wp-events-plugin.com//7.2.3.1//EN
TZID:Australia/Melbourne
X-WR-TIMEZONE:Australia/Melbourne
BEGIN:VEVENT
UID:9@everest4wdclubvic.com.au
DTSTART;TZID=Australia/Melbourne:20221127T100000
DTEND;TZID=Australia/Melbourne:20221127T160000
DTSTAMP:20230809T074500Z
URL:https://everest4wdclubvic.com.au/events/everest-4wd-club-christmas-par
 ty/
SUMMARY:Everest 4wd Club Christmas Party
DESCRIPTION:
ATTACH;FMTTYPE=image/jpeg:https://everest4wdclubvic.com.au/wp-content/uplo
 ads/2022/08/IMG_8241.jpeg
END:VEVENT
BEGIN:VTIMEZONE
TZID:Australia/Melbourne
X-LIC-LOCATION:Australia/Melbourne
BEGIN:DAYLIGHT
DTSTART:20221002T030000
TZOFFSETFROM:+1000
TZOFFSETTO:+1100
TZNAME:AEDT
END:DAYLIGHT
END:VTIMEZONE
END:VCALENDAR