BEGIN:VCALENDAR
VERSION:2.0
PRODID:-//wp-events-plugin.com//7.2.3.1//EN
TZID:Australia/Melbourne
X-WR-TIMEZONE:Australia/Melbourne
BEGIN:VEVENT
UID:19@everest4wdclubvic.com.au
DTSTART;TZID=Australia/Melbourne;VALUE=DATE:20240209
DTEND;TZID=Australia/Melbourne;VALUE=DATE:20240212
DTSTAMP:20240123T055922Z
URL:https://everest4wdclubvic.com.au/events/annual-geriwerd-grampians-icon
 ic-drive/
SUMMARY:Annual Gariwerd (Grampians) Iconic Drive
DESCRIPTION:Annual base camp at Boreang and drive around some of the iconic
  areas like Victoria Range and Wallaby Rocks and destinations like Mackenz
 ie Falls and Wartook Lookout.\n\nDepending on current track conditions and
  weather\, the trip may also embark on the steep Launders Track\, but othe
 rwise the tracks will be predominantly "4WD only" but relatively easy driv
 ing.
ATTACH;FMTTYPE=image/jpeg:https://everest4wdclubvic.com.au/wp-content/uplo
 ads/2023/08/IMG_6507.jpg
CATEGORIES:Base camp
LOCATION:https://www.google.com/maps/place/Boreang+Campground/@-37.1752429,
 142.4155542,17z/data=!3m1!4b1!4m6!3m5!1s0x6ace0bbbbc4c17d1:0x92e3375c930c3
 59e!8m2!3d-37.1752429!4d142.4181345!16s%2Fg%2F11b7w1bnrg?entry=ttu
END:VEVENT
BEGIN:VTIMEZONE
TZID:Australia/Melbourne
X-LIC-LOCATION:Australia/Melbourne
BEGIN:DAYLIGHT
DTSTART:20231001T030000
TZOFFSETFROM:+1000
TZOFFSETTO:+1100
TZNAME:AEDT
END:DAYLIGHT
END:VTIMEZONE
END:VCALENDAR